BEGIN:VCALENDAR
VERSION:2.0
PRODID:-//eventon.com NONSGML v1.0//EN
CALSCALE:GREGORIAN
METHOD:PUBLISH
BEGIN:VEVENT
UID:69e8a0e10af03
DTSTAMP:20260422T102017Z
DTSTART:20250622
DTEND:20250623
LOCATION:Jardin De Los Zuloaga Jardín de los zuloagas ( San Juan de los Caballeros)
SUMMARY:XXI Festival Joven Mariano San Romualdo "Silverio"
DESCRIPTION:Festival Joven Mariano San Romualdo 2025\,  22 de junio a las 1
 9.00 horas en los Jardines de los Zuloagas. Entrada libre\,  con la partici
 pación del Grupo Folclórico Joven «Villa de Madrid» y el Grupo Joven «
 La Esteva» de Segovia. Síguenos en nuestro canal de Whatsapp: Además\,  
 como viene siendo habitual[..]\nhttps://www.eventosdesegovia.com/events/xxi
 -festival-joven-mariano-san-romualdo-silverio/
URL:https://www.eventosdesegovia.com/events/xxi-festival-joven-mariano-san-romualdo-silverio/
END:VEVENT
END:VCALENDAR