BEGIN:VCALENDAR
VERSION:2.0
PRODID:-//eventon.com NONSGML v1.0//EN
CALSCALE:GREGORIAN
METHOD:PUBLISH
BEGIN:VEVENT
UID:69e4cb835d957
DTSTAMP:20260419T123307Z
DTSTART:20250620T180000Z
DTEND:20250620T190000Z
LOCATION:Casa de la Lectura â€“ Biblioteca Municipal Calle Juan Bravo\,  11
SUMMARY:PresentaciÃ³n del libro 'Segovia. El rapto del agua' en Casa de la Lectura
DESCRIPTION:PresentaciÃ³n del libro &#8216;Segovia. El rapto del agua&#8217
 ;\,  20 de junio de 2025 a las 18:00 horas\,  en la Casa de la Lectura. Esp
 ido Freire ha escrito en primera persona un largo paseo evocativo de los aÃ
 ±os que viviÃ³ en Segovia\,  los dÃ­as y las noches que la recorriÃ³ y[..]\
 nhttps://www.eventosdesegovia.com/events/presentacion-del-libro-segovia-el-
 rapto-del-agua-en-casa-de-la-lectura/
URL:https://www.eventosdesegovia.com/events/presentacion-del-libro-segovia-el-rapto-del-agua-en-casa-de-la-lectura/
END:VEVENT
END:VCALENDAR