BEGIN:VCALENDAR
VERSION:2.0
PRODID:-//eventon.com NONSGML v1.0//EN
CALSCALE:GREGORIAN
METHOD:PUBLISH
BEGIN:VEVENT
UID:69e7631c070ca
DTSTAMP:20260421T114428Z
DTSTART:20250621
DTEND:20250622
LOCATION:Sepúlveda Sepúlveda
SUMMARY:Noche Romántica 2025 en Sepúlveda
DESCRIPTION:Noche Romántica 2025 en Sepúlveda\,  El sábado 21 de junio d
 e 2025\,  Sepúlveda acoge la «Noche Romántica». A las 23:30 h\,  el Gru
 po Difussion ofrecerá una actuación en la Plaza de España. A las 00:00 h
 \,  únete al momento más especial: miles de personas se darán un beso si
 multáneo en[..]\nhttps://www.eventosdesegovia.com/events/noche-romantica-2
 025-en-sepulveda/
URL:https://www.eventosdesegovia.com/events/noche-romantica-2025-en-sepulveda/
END:VEVENT
END:VCALENDAR