BEGIN:VCALENDAR
VERSION:2.0
PRODID:-//eventon.com NONSGML v1.0//EN
CALSCALE:GREGORIAN
METHOD:PUBLISH
BEGIN:VEVENT
UID:69e8a06701628
DTSTAMP:20260422T101815Z
DTSTART:20250627
DTEND:20250628
LOCATION:El Espinar
SUMMARY:FeMuka: Festival Internacional de Música y Teatro en la Calle 2025 en La Estación de El Espinar
DESCRIPTION:FeMuka: Festival Internacional de Música y Teatro en la Calle 
 2025 en La Estación de El Espinar\,  del 27 al 29 de junio de 2025\,  la E
 stación de El Espinar\,  Segovia\,  acogerá la 17ª edición de FeMuka\, 
  el Festival Internacional de Música y Teatro en la Calle. Disfruta de act
 uaciones[..]\nhttps://www.eventosdesegovia.com/events/femuka-festival-inter
 nacional-de-musica-y-teatro-en-la-calle-2025-en-la-estacion-de-el-espinar/
URL:https://www.eventosdesegovia.com/events/femuka-festival-internacional-de-musica-y-teatro-en-la-calle-2025-en-la-estacion-de-el-espinar/
END:VEVENT
END:VCALENDAR