BEGIN:VCALENDAR
VERSION:2.0
PRODID:-//eventon.com NONSGML v1.0//EN
CALSCALE:GREGORIAN
METHOD:PUBLISH
BEGIN:VEVENT
UID:69e8feca55118
DTSTAMP:20260422T170058Z
DTSTART:20250627
DTEND:20250628
LOCATION:San Cristóbal de Segovia San Cristóbal de Segovia
SUMMARY:Fiestas de la Juventud 2025 en San Cristóbal
DESCRIPTION:Fiestas de la Juventud 2025 en San Cristóbal\,  las Fiestas de
  la Juventud 2025 se celebran en San Cristóbal de Segovia\,  comenzando el
  viernes 27 de junio y extendiéndose hasta el domingo 6 de julio. Descripc
 ión del Evento: Prepárate para unas Fiestas de la Juventud llenas de dive
 rsión y actividades[..]\nhttps://www.eventosdesegovia.com/events/fiestas-d
 e-la-juventud-2025-en-san-cristobal/
URL:https://www.eventosdesegovia.com/events/fiestas-de-la-juventud-2025-en-san-cristobal/
END:VEVENT
END:VCALENDAR