BEGIN:VCALENDAR
VERSION:2.0
PRODID:-//eventon.com NONSGML v1.0//EN
CALSCALE:GREGORIAN
METHOD:PUBLISH
BEGIN:VEVENT
UID:69e89c07e02dd
DTSTAMP:20260422T095935Z
DTSTART:20250627
DTEND:20250628
LOCATION:Pabellon Emperador Teodosio Calle General Varela\,  40002 Segovia
SUMMARY:Exhibición de Baloncesto en el Pabellón Emperador Teodosio - Ferias y Fiestas 2025
DESCRIPTION:Exhibición de Baloncesto en el Pabellón Emperador Teodosio &#
 8211; Ferias y Fiestas 2025\,  El viernes 27 de junio\,  el Pabellón Emper
 ador Teodosio de Segovia será el escenario de una emocionante exhibición 
 de baloncesto. La jornada comenzará a las 16:45h con una exhibición de ba
 loncesto 3&#215;3\,  seguida de un concurso de[..]\nhttps://www.eventosdese
 govia.com/events/exhibicion-de-baloncesto-en-el-pabellon-emperador-teodosio
 -ferias-y-fiestas-2025/
URL:https://www.eventosdesegovia.com/events/exhibicion-de-baloncesto-en-el-pabellon-emperador-teodosio-ferias-y-fiestas-2025/
END:VEVENT
END:VCALENDAR