BEGIN:VCALENDAR
VERSION:2.0
PRODID:-//eventon.com NONSGML v1.0//EN
CALSCALE:GREGORIAN
METHOD:PUBLISH
BEGIN:VEVENT
UID:69e777e7ce116
DTSTAMP:20260421T131311Z
DTSTART:20250706
DTEND:20250707
LOCATION:Fresno de Cantespino Fresno de Cantespino
SUMMARY:VII Torneo ‘Villa de Fresno’ X Trofeo Provincial de Ajedrez 2025
DESCRIPTION:VII Torneo ‘Villa de Fresno’ X Trofeo Provincial de Ajedrez
  2025\,  El 6 de julio de 2025\,  a las 10:00\,  se celebrará el VII Torne
 o ‘Villa de Fresno’ X Trofeo Provincial de Ajedrez en el Centro de Visi
 tantes (calle Real nº15)\,  junto a la Plaza Mayor de Fresno de Cantespino
 .[..]\nhttps://www.eventosdesegovia.com/events/vii-torneo-villa-de-fresno-x
 -trofeo-provincial-de-ajedrez-2025/
URL:https://www.eventosdesegovia.com/events/vii-torneo-villa-de-fresno-x-trofeo-provincial-de-ajedrez-2025/
END:VEVENT
END:VCALENDAR