BEGIN:VCALENDAR
VERSION:2.0
PRODID:-//eventon.com NONSGML v1.0//EN
CALSCALE:GREGORIAN
METHOD:PUBLISH
BEGIN:VEVENT
UID:69e73b613469a
DTSTAMP:20260421T085457Z
DTSTART:20250716
DTEND:20250717
LOCATION:Matabuena Matabuena
SUMMARY:Fiestas en Honor a Santiago Apóstol y San Cristóbal 2025 en Matabuena
DESCRIPTION:Fiestas en Honor a Santiago Apóstol y San Cristóbal 2025 en M
 atabuena\,  del 16 al 31 de Julio\,  Matabuena celebra sus Fiestas en Honor
  a Santiago Apóstol y San Cristóbal con una programación diversa que inc
 luye actos religiosos\,  música\,  gastronomía y actividades para toda la
  familia. Miércoles 16 de Julio[..]\nhttps://www.eventosdesegovia.com/even
 ts/fiestas-en-honor-a-santiago-apostol-y-san-cristobal-2025-en-matabuena/
URL:https://www.eventosdesegovia.com/events/fiestas-en-honor-a-santiago-apostol-y-san-cristobal-2025-en-matabuena/
END:VEVENT
END:VCALENDAR