BEGIN:VCALENDAR
VERSION:2.0
PRODID:-//eventon.com NONSGML v1.0//EN
CALSCALE:GREGORIAN
METHOD:PUBLISH
BEGIN:VEVENT
UID:69e74f12b6eff
DTSTAMP:20260421T101858Z
DTSTART:20250715
DTEND:20250716
LOCATION:
SUMMARY:Visitas guiadas 'Consagración de la Catedral de Segovia'
DESCRIPTION:Visitas guiadas &#8216;Consagración de la Catedral de Segovia&
 #8217;\,  durante los miércoles de julio a las 17:00 horas. Además\,  el 
 17 de julio a las 10:00 horas\,  tendrá lugar la misa conmemorativa de la 
 consagración de la Catedral. En 16 de julio de 1768 se consagró la Catedr
 al de Segovia tras[..]\nhttps://www.eventosdesegovia.com/events/visitas-gui
 adas-consagracion-de-la-catedral-de-segovia/
URL:https://www.eventosdesegovia.com/events/visitas-guiadas-consagracion-de-la-catedral-de-segovia/
END:VEVENT
END:VCALENDAR