BEGIN:VCALENDAR
VERSION:2.0
PRODID:-//eventon.com NONSGML v1.0//EN
CALSCALE:GREGORIAN
METHOD:PUBLISH
BEGIN:VEVENT
UID:69e7563bc193c
DTSTAMP:20260421T104931Z
DTSTART:20240717
DTEND:20240718
LOCATION:
SUMMARY:MUSEG 2025 Concierto OSCYL Joven
DESCRIPTION:MUSEG 2025\,  Concierto OSCYL Joven con Joana Carneiro y Pacho 
 Fores\,  17 de julio\,  20:00 horas\,  en el Jardín de Los Zuloaga. MUSEG 
 2025Descarga Síguenos en nuestro canal de Whatsapp:\nhttps://www.eventosde
 segovia.com/events/museg-2025-concierto-oscyl-joven/
URL:https://www.eventosdesegovia.com/events/museg-2025-concierto-oscyl-joven/
END:VEVENT
END:VCALENDAR