BEGIN:VCALENDAR
VERSION:2.0
PRODID:-//eventon.com NONSGML v1.0//EN
CALSCALE:GREGORIAN
METHOD:PUBLISH
BEGIN:VEVENT
UID:69e77724b3187
DTSTAMP:20260421T130956Z
DTSTART:20250721
DTEND:20250722
LOCATION:Laura Segovia Flamenco. Espectáculos y Formación Calle Alamillo\,  10\,  40001 Segovia
SUMMARY:Curso Intensivo de Verano en Laura Segovia
DESCRIPTION:Curso Intensivo de Verano en Laura Segovia\,  Del 21 al 24 de j
 ulio\,  Laura Segovia Artista y Formadora ofrece un Curso Intensivo de Vera
 no en la Calle Alamillo\,  10\,  Segovia. El curso cuenta con la participac
 ión de Laura Segovia (Martes/Jueves) y Norberto Chamizo (Lunes/Miércoles)
 . Los horarios son: 18:00h a 19:00h:[..]\nhttps://www.eventosdesegovia.com/
 events/curso-intensivo-de-verano-en-laura-segovia/
URL:https://www.eventosdesegovia.com/events/curso-intensivo-de-verano-en-laura-segovia/
END:VEVENT
END:VCALENDAR