BEGIN:VCALENDAR
VERSION:2.0
PRODID:-//eventon.com NONSGML v1.0//EN
CALSCALE:GREGORIAN
METHOD:PUBLISH
BEGIN:VEVENT
UID:69e73b1fe59cd
DTSTAMP:20260421T085351Z
DTSTART:20250726
DTEND:20250727
LOCATION:MartÃ­n MuÃ±oz de las Posadas MartÃ­n MuÃ±oz de las Posadas
SUMMARY:Campeonatos de Calva en MartÃ­n MuÃ±oz de las Posadas
DESCRIPTION:Campeonatos de Calva en MartÃ­n MuÃ±oz de las Posadas\,  los dÃ
 ­as 26 y 30 de Julio de 2025. SÃ¡bado 26 de Julio La AsociaciÃ³n Cultural L
 uz de Castilla organiza los Campeonatos de Calva en MartÃ­n MuÃ±oz de las P
 osadas. El campeonato masculino tendrÃ¡ lugar el sÃ¡bado 26 de julio a[..]\
 nhttps://www.eventosdesegovia.com/events/campeonatos-de-calva-en-martin-mun
 oz-de-las-posadas-2/
URL:https://www.eventosdesegovia.com/events/campeonatos-de-calva-en-martin-munoz-de-las-posadas-2/
END:VEVENT
END:VCALENDAR