BEGIN:VCALENDAR
VERSION:2.0
PRODID:-//eventon.com NONSGML v1.0//EN
CALSCALE:GREGORIAN
METHOD:PUBLISH
BEGIN:VEVENT
UID:69eb2a6ca1d92
DTSTAMP:20260424T083140Z
DTSTART:20250726T170000Z
DTEND:20250726T200000Z
LOCATION:Segovia Segovia
SUMMARY:Sessions Sunset Summer en Terraza Vogue Cervecería
DESCRIPTION:Sessions Sunset Summer en Terraza Vogue Cervecería\,  el Sába
 do 26 de Julio Disfruta de las «Sessions Sunset Summer» el sábado 26 de 
 julio de 2025\,  a partir de las 19:00 horas en la Terraza Vogue Cervecerí
 a-Café de Segovia. La noche contará con la música de los DJs RIZMOH (Sol
 id Gold)[..]\nhttps://www.eventosdesegovia.com/events/sessions-sunset-summe
 r-en-terraza-vogue-cerveceria/
URL:https://www.eventosdesegovia.com/events/sessions-sunset-summer-en-terraza-vogue-cerveceria/
END:VEVENT
END:VCALENDAR