BEGIN:VCALENDAR
VERSION:2.0
PRODID:-//eventon.com NONSGML v1.0//EN
CALSCALE:GREGORIAN
METHOD:PUBLISH
BEGIN:VEVENT
UID:69e89d78db4fb
DTSTAMP:20260422T100544Z
DTSTART:20250728
DTEND:20250729
LOCATION:San Rafael San Rafael
SUMMARY:FIESTAS DE SAN RAFAEL 2025
DESCRIPTION:FIESTAS DE SAN RAFAEL 2025\,  del 28 de Julio al 3 de Agosto d
 e 2025 Lunes\,  día 28 De 14 a 17 charanga y d\, j quintos A las 20 h.\, &
 nbsp;PREGÓN DE FIESTAS&nbsp;a cargo del&nbsp;HOGAR DEL PENSIONISTA DE SAN 
 RAFAEL\,  que será leído por nuestros vecinos Soledad de la Faya y Marian
 o[..]\nhttps://www.eventosdesegovia.com/events/fiestas-de-san-rafael-2025/
URL:https://www.eventosdesegovia.com/events/fiestas-de-san-rafael-2025/
END:VEVENT
END:VCALENDAR