BEGIN:VCALENDAR
VERSION:2.0
PRODID:-//eventon.com NONSGML v1.0//EN
CALSCALE:GREGORIAN
METHOD:PUBLISH
BEGIN:VEVENT
UID:69e75d166f685
DTSTAMP:20260421T111846Z
DTSTART:20250729
DTEND:20250730
LOCATION:Muñoveros Muñoveros
SUMMARY:Fiestas en honor a San Félix Mártir 2025 en Muñoveros
DESCRIPTION:Fiestas en honor a San Félix Mártir 2025 en Muñoveros\,  Las
  Fiestas en honor a San Félix Mártir se celebrarán en Muñoveros\,  Espa
 ña\,  desde el martes 29 de julio hasta el sábado 2 de agosto. Prepárate
  para unos días llenos de deporte\,  música\,  tradición y diversión pa
 ra todas las edades.[..]\nhttps://www.eventosdesegovia.com/events/fiestas-e
 n-honor-a-san-felix-martir-2025-en-munoveros/
URL:https://www.eventosdesegovia.com/events/fiestas-en-honor-a-san-felix-martir-2025-en-munoveros/
END:VEVENT
END:VCALENDAR