BEGIN:VCALENDAR
VERSION:2.0
PRODID:-//eventon.com NONSGML v1.0//EN
CALSCALE:GREGORIAN
METHOD:PUBLISH
BEGIN:VEVENT
UID:69e775ee8792f
DTSTAMP:20260421T130446Z
DTSTART:20250805
DTEND:20250806
LOCATION:Sacramenia Sacramenia
SUMMARY:Torneo de FÃºtbol Sala 2025 en Sacramenia
DESCRIPTION:Torneo de FÃºtbol Sala 2025 en Sacramenia\,  El evento tendrÃ¡ 
 lugar en el Polideportivo de Sacramenia\,  los dÃ­as 5 y 6 de agosto. El ma
 rtes 5 de agosto se celebrarÃ¡ el Torneo Femenino para edades de 14 a 17 aÃ
 ±os. El miÃ©rcoles 6 de agosto\,  se llevarÃ¡ a cabo el[..]\nhttps://www.ev
 entosdesegovia.com/events/torneo-de-futbol-sala-2025-en-sacramenia/
URL:https://www.eventosdesegovia.com/events/torneo-de-futbol-sala-2025-en-sacramenia/
END:VEVENT
END:VCALENDAR