BEGIN:VCALENDAR
VERSION:2.0
PRODID:-//eventon.com NONSGML v1.0//EN
CALSCALE:GREGORIAN
METHOD:PUBLISH
BEGIN:VEVENT
UID:69e74e9139005
DTSTAMP:20260421T101649Z
DTSTART:20250801
DTEND:20250802
LOCATION:Marugán Marugán
SUMMARY:FIESTAS DE VERANO 2025 en MARUGÁN
DESCRIPTION:FIESTAS DE VERANO 2025 en MARUGÁN\,  Las Fiestas de Verano de 
 Marugán se celebran del 1 al 3 de agosto. Viernes\,  1 de agosto 19:00h: R
 ecorrido por los bares con la Charanga Sarao. 21:00h: Bocadillo solidario e
 laborado por el Banco de Alimentos y sangría ofrecida por la Asociación C
 ultural de[..]\nhttps://www.eventosdesegovia.com/events/fiestas-de-verano-2
 025-en-marugan/
URL:https://www.eventosdesegovia.com/events/fiestas-de-verano-2025-en-marugan/
END:VEVENT
END:VCALENDAR