BEGIN:VCALENDAR
VERSION:2.0
PRODID:-//eventon.com NONSGML v1.0//EN
CALSCALE:GREGORIAN
METHOD:PUBLISH
BEGIN:VEVENT
UID:69e88a4344f80
DTSTAMP:20260422T084347Z
DTSTART:20250806
DTEND:20250807
LOCATION:Palacio Quintanar Calle de San AgustÃ­n\,  40001 Segovia
SUMMARY:Concierto de Raiz en Palacio Quintanar
DESCRIPTION:Raiz\,  6 de agosto a las 21.30 hrs.\,  en Palacio Quintanar. V
 oces y Cuerdas Ananda Roda: Laud renascentista\,  kora\,  guitarra Barroca\
 ,  archilaud y cantoDaniele La Torre: Mandolino\,  Charango y Mandola La fu
 siÃ³n de mÃºsica barroca italiana\,  mÃºsica brasileÃ±a y plectro mediterrÃ
 ¡neo representa un importante encuentro entre diferentes tradiciones musica
 les de[..]\nhttps://www.eventosdesegovia.com/events/concierto-de-raiz-en-pa
 lacio-quintanar/
URL:https://www.eventosdesegovia.com/events/concierto-de-raiz-en-palacio-quintanar/
END:VEVENT
END:VCALENDAR