BEGIN:VCALENDAR
VERSION:2.0
PRODID:-//eventon.com NONSGML v1.0//EN
CALSCALE:GREGORIAN
METHOD:PUBLISH
BEGIN:VEVENT
UID:69e78bf5ba2ba
DTSTAMP:20260421T143845Z
DTSTART:20250811
DTEND:20250812
LOCATION:Palazuelos de Eresma Palazuelos de Eresma
SUMMARY:II Torneo de Pádel en Palazuelos de Eresma
DESCRIPTION:II Torneo de Pádel en Palazuelos de Eresma\,  El II Torneo de 
 Pádel se llevará a cabo del 11 al 13 de agosto en las Pistas de Pádel Ol
 ivia García de Palazuelos de Eresma. Se jugarán un mínimo de 3 partidos 
 por pareja. Hay premios en efectivo para el primer[..]\nhttps://www.eventos
 desegovia.com/events/ii-torneo-de-padel-en-palazuelos-de-eresma/
URL:https://www.eventosdesegovia.com/events/ii-torneo-de-padel-en-palazuelos-de-eresma/
END:VEVENT
END:VCALENDAR