BEGIN:VCALENDAR
VERSION:2.0
PRODID:-//eventon.com NONSGML v1.0//EN
CALSCALE:GREGORIAN
METHOD:PUBLISH
BEGIN:VEVENT
UID:69e73f1feeb96
DTSTAMP:20260421T091055Z
DTSTART:20250817
DTEND:20250818
LOCATION:Segovia Segovia
SUMMARY:Fiestas en La Lastrilla 2025 San Juan
DESCRIPTION:Fiestas en La Lastrilla 2025 San Juan\,  del 17 al 24 de agosto
 . Fiestas en La Lastrilla 2025 San JuanDescarga\nhttps://www.eventosdesegov
 ia.com/events/fiestas-en-la-lastrilla-2025-san-juan/
URL:https://www.eventosdesegovia.com/events/fiestas-en-la-lastrilla-2025-san-juan/
END:VEVENT
END:VCALENDAR