BEGIN:VCALENDAR
VERSION:2.0
PRODID:-//eventon.com NONSGML v1.0//EN
CALSCALE:GREGORIAN
METHOD:PUBLISH
BEGIN:VEVENT
UID:69e78a69c81a6
DTSTAMP:20260421T143209Z
DTSTART:20250801
DTEND:20250802
LOCATION:Yanguas de Eresma Yanguas de Eresma
SUMMARY:Fiestas 2025 en Yanguas de Eresma
DESCRIPTION:Fiestas 2025 en Yanguas de Eresma\,  Las fiestas de Yanguas de 
 Eresma se celebrarán del 1 al 23 de agosto de 2025 en honor a Ntra. Sra. d
 e la Asunción y San Roque. Día 1 21:00 h.: Espectáculo «El Mago Toso».
  Día 2 20:00 h.: Festival de las jotitas yanguasinas.[..]\nhttps://www.eve
 ntosdesegovia.com/events/fiestas-2025-en-yanguas-de-eresma/
URL:https://www.eventosdesegovia.com/events/fiestas-2025-en-yanguas-de-eresma/
END:VEVENT
END:VCALENDAR