BEGIN:VCALENDAR
VERSION:2.0
PRODID:-//eventon.com NONSGML v1.0//EN
CALSCALE:GREGORIAN
METHOD:PUBLISH
BEGIN:VEVENT
UID:69e75d18906bf
DTSTAMP:20260421T111848Z
DTSTART:20250822
DTEND:20250823
LOCATION:Madrona Madrona
SUMMARY:Fiestas en Madrona 2025
DESCRIPTION:Fiestas en Madrona 2025\,  Madrona celebra sus Fiestas en honor
  al Santo Cristo de la Salud. El programa abarca desde el viernes 22 de ago
 sto hasta el lunes 1 de septiembre. Viernes 22 de agosto 19:00 h: Inicio de
  preparación de peñas 20:00 h: Torneo de tute\,  mus y pocha[..]\nhttps:/
 /www.eventosdesegovia.com/events/fiestas-en-madrona-2025/
URL:https://www.eventosdesegovia.com/events/fiestas-en-madrona-2025/
END:VEVENT
END:VCALENDAR