BEGIN:VCALENDAR
VERSION:2.0
PRODID:-//eventon.com NONSGML v1.0//EN
CALSCALE:GREGORIAN
METHOD:PUBLISH
BEGIN:VEVENT
UID:69e8b10ab44d6
DTSTAMP:20260422T112914Z
DTSTART:20250821
DTEND:20250822
LOCATION:Fuentepelayo Fuentepelayo
SUMMARY:Fiestas de Fuentepelayo 2025
DESCRIPTION:Las Fiestas de Fuentepelayo se celebran del 21 al 24 de agosto.
  Jueves 21 de agosto 17:00h: Parque Infantil (Ferial). 18:00h: Entrega de p
 remios del Concurso de Pintura Infantil (Salón de Actos). 21:00h: Ofrenda 
 floral y canto de la Salve en honor a Nuestra Sra. de la Asunción y San[..
 ]\nhttps://www.eventosdesegovia.com/events/fiestas-de-fuentepelayo-2025/
URL:https://www.eventosdesegovia.com/events/fiestas-de-fuentepelayo-2025/
END:VEVENT
END:VCALENDAR