BEGIN:VCALENDAR
VERSION:2.0
PRODID:-//eventon.com NONSGML v1.0//EN
CALSCALE:GREGORIAN
METHOD:PUBLISH
BEGIN:VEVENT
UID:69e73b42e3119
DTSTAMP:20260421T085426Z
DTSTART:20250818
DTEND:20250819
LOCATION:Valleruela de Sepúlveda Valleruela de Sepúlveda
SUMMARY:Fiestas 2025 en Valleruela de Sepúlveda
DESCRIPTION:Fiestas 2025 en Valleruela de Sepúlveda\,  Las Fiestas de Vall
 eruela de Sepúlveda se extienden del 18 de agosto al 7 de septiembre. Mart
 es 26 de agosto A las 19:00\,  se ofrecerá una Cata de embutidos Ibéricos
  en el Ayuntamiento y la Diputación de Segovia. A las 21:00\,  tendrá lug
 ar una[..]\nhttps://www.eventosdesegovia.com/events/fiestas-2025-en-valleru
 ela-de-sepulveda/
URL:https://www.eventosdesegovia.com/events/fiestas-2025-en-valleruela-de-sepulveda/
END:VEVENT
END:VCALENDAR