BEGIN:VCALENDAR
VERSION:2.0
PRODID:-//eventon.com NONSGML v1.0//EN
CALSCALE:GREGORIAN
METHOD:PUBLISH
BEGIN:VEVENT
UID:69e774cb02984
DTSTAMP:20260421T125955Z
DTSTART:20201010T170000Z
DTEND:20201219T190000Z
LOCATION:Casa de la Lectura – Biblioteca Municipal Calle Juan Bravo\,  11
SUMMARY:I Edición de DI-VERSOS
DESCRIPTION:I Edición de DI-VERSOS Entre el 10 de octubre y el 19 de dicie
 mbre se celebra en la Casa de la Lectura- Biblioteca Municipal de Segovia l
 a I Edición de DI-VERSOS. Se trata de una iniciativa en la que convergen P
 aladio Arte\,  Andrelo ‘Pipas de Coco’ y la Concejalía de[..]\nhttps:/
 /www.eventosdesegovia.com/events/i-edicion-de-di-versos/
URL:https://www.eventosdesegovia.com/events/i-edicion-de-di-versos/
END:VEVENT
END:VCALENDAR