BEGIN:VCALENDAR
VERSION:2.0
PRODID:-//eventon.com NONSGML v1.0//EN
CALSCALE:GREGORIAN
METHOD:PUBLISH
BEGIN:VEVENT
UID:69e4cb323b275
DTSTAMP:20260419T123146Z
DTSTART:20250905
DTEND:20250906
LOCATION:Santiuste de Pedraza Santiuste de Pedraza
SUMMARY:Fiestas de El Cristo 2025 en Santiuste de Pedraza
DESCRIPTION:Fiestas de El Cristo 2025 en Santiuste de Pedraza\,  Descubre e
 l programa completo de las fiestas de El Cristo en Santiuste de Pedraza\,  
 que se extienden desde el viernes 5 hasta el domingo 7 de septiembre. VIERN
 ES 5 Preparación Fiestas – 9:00h Recogida Ticket – 21:10h Cena del Cri
 sto –[..]\nhttps://www.eventosdesegovia.com/events/fiestas-de-el-cristo-2
 025-en-santiuste-de-pedraza/
URL:https://www.eventosdesegovia.com/events/fiestas-de-el-cristo-2025-en-santiuste-de-pedraza/
END:VEVENT
END:VCALENDAR