BEGIN:VCALENDAR
VERSION:2.0
PRODID:-//eventon.com NONSGML v1.0//EN
CALSCALE:GREGORIAN
METHOD:PUBLISH
BEGIN:VEVENT
UID:69e61f0f51272
DTSTAMP:20260420T124151Z
DTSTART:20250911
DTEND:20250912
LOCATION:Garcillán
SUMMARY:FIESTAS GARCILLÁN 2025
DESCRIPTION:FIESTAS GARCILLÁN 2025\,  DEL 11 AL 21 DE SEPTIEMBRE de 2025\,
   con el siguiente programa de Fiestas y semana cultural\,  también semana
  cultural infantil. Jueves 11 de septiembre de 2025 18:00 h Ermita. Novena 
 en Honor a Nuestra Señora La Virgen de la Piedad. 19:30 h Plaza Mayor. Con
 curso de[..]\nhttps://www.eventosdesegovia.com/events/fiestas-garcillan-202
 5/
URL:https://www.eventosdesegovia.com/events/fiestas-garcillan-2025/
END:VEVENT
END:VCALENDAR