BEGIN:VCALENDAR
VERSION:2.0
PRODID:-//eventon.com NONSGML v1.0//EN
CALSCALE:GREGORIAN
METHOD:PUBLISH
BEGIN:VEVENT
UID:69e7933c7e5d3
DTSTAMP:20260421T150948Z
DTSTART:20250920
DTEND:20250921
LOCATION:Segovia Segovia
SUMMARY:XLIII Trofeo Ciclista "Pedro Delgado" en Segovia
DESCRIPTION:XLIII Trofeo Ciclista «Pedro Delgado» en Segovia\,  El XLIII 
 Trofeo Ciclista «Pedro Delgado» tendrá lugar el sábado 20 de septiembre
  de 2025 a las 17:30 h en la Zona de la Biblioteca Pública de Segovia. El 
 evento es organizado por el Club Ciclista 53&#215;13 y se clasifica por cat
 egorías: Promesas:[..]\nhttps://www.eventosdesegovia.com/events/xliii-trof
 eo-ciclista-pedro-delgado-en-segovia/
URL:https://www.eventosdesegovia.com/events/xliii-trofeo-ciclista-pedro-delgado-en-segovia/
END:VEVENT
END:VCALENDAR