BEGIN:VCALENDAR
VERSION:2.0
PRODID:-//eventon.com NONSGML v1.0//EN
CALSCALE:GREGORIAN
METHOD:PUBLISH
BEGIN:VEVENT
UID:69e5f4c8810e7
DTSTAMP:20260420T094128Z
DTSTART:20201015
DTEND:20201016
LOCATION:Casa de la Lectura – Biblioteca Municipal Calle Juan Bravo\,  11
SUMMARY:365 Mujeres Segovia 2020/2021
DESCRIPTION:365 Mujeres Segovia 2020/2021 Seis jornadas que proporcionarán
  puntos de vista para mejorar el mundo. Porque hablar de la situación de l
 as mujeres en cualquier época supone hablar de una de las capas más profu
 ndas\,  “de los estratos más decisivos en la marcha de la cultura”\,  
 como proponía María Zambrano.[..]\nhttps://www.eventosdesegovia.com/event
 s/365-mujeres-segovia-2020-2021/
URL:https://www.eventosdesegovia.com/events/365-mujeres-segovia-2020-2021/
END:VEVENT
END:VCALENDAR