BEGIN:VCALENDAR
VERSION:2.0
PRODID:-//eventon.com NONSGML v1.0//EN
CALSCALE:GREGORIAN
METHOD:PUBLISH
BEGIN:VEVENT
UID:69e74d6d610b3
DTSTAMP:20260421T101157Z
DTSTART:20260207
DTEND:20260208
LOCATION:Navares de Enmedio Navares de Enmedio
SUMMARY:Santa Águeda 2026 en Navares de Enmedio
DESCRIPTION:Santa Águeda 2026 en Navares de Enmedio\,  La celebración ten
 drá lugar el 7 de febrero de 2026\,  comenzando a las 11:00 horas en las c
 alles y la Plaza del Ayuntamiento de Navares de Enmedio. El programa de act
 os es muy completo para honrar a la santa. Iniciará con pasacalles acompa
 ados[..]\nhttps://www.eventosdesegovia.com/events/santa-agueda-2026-en-nav
 ares-de-enmedio/
URL:https://www.eventosdesegovia.com/events/santa-agueda-2026-en-navares-de-enmedio/
END:VEVENT
END:VCALENDAR