BEGIN:VCALENDAR
VERSION:2.0
PRODID:-//eventon.com NONSGML v1.0//EN
CALSCALE:GREGORIAN
METHOD:PUBLISH
BEGIN:VEVENT
UID:69e75da1a70dd
DTSTAMP:20260421T112105Z
DTSTART:20260214
DTEND:20260215
LOCATION:Segovia Segovia
SUMMARY:Programa de Carnaval 2026 en Segovia
DESCRIPTION:Programa de Carnaval 2026 en Segovia\,  Un arlequÃ­n con dos mÃ
 ¡scaras â€“ el sol y la luna- y el acueducto\,  obra del ilustrador Iban Ba
 rrenetxea\,  serÃ¡n la imagen de esta popular fiesta que se desarrollarÃ¡ e
 ntre el 14 y el 22 de febrero El entierro de la sardina se celebrarÃ¡[..]\n
 https://www.eventosdesegovia.com/events/programa-de-carnaval-2026-en-segovi
 a/
URL:https://www.eventosdesegovia.com/events/programa-de-carnaval-2026-en-segovia/
END:VEVENT
END:VCALENDAR