BEGIN:VCALENDAR
VERSION:2.0
PRODID:-//eventon.com NONSGML v1.0//EN
CALSCALE:GREGORIAN
METHOD:PUBLISH
BEGIN:VEVENT
UID:69e7a64a91439
DTSTAMP:20260421T163106Z
DTSTART:20260206
DTEND:20260207
LOCATION:Palazuelos de Eresma Palazuelos de Eresma
SUMMARY:Fiestas de Santa Águeda en Palazuelos y Tabanera
DESCRIPTION:Fiestas de Santa Águeda en Palazuelos y Tabanera\,  Viernes 6\
 ,  sábado 7 y domingo 8 de febrero en diversas localizaciones de Palazuelo
 s de Eresma y Tabanera del Monte. Los actos principales se reparten entre e
 l Salón Parroquial\,  la Iglesia y el Salón Escénico de Palazuelos\,  as
 í como en las calles[..]\nhttps://www.eventosdesegovia.com/events/fiestas-
 de-santa-agueda-en-palazuelos-y-tabanera/
URL:https://www.eventosdesegovia.com/events/fiestas-de-santa-agueda-en-palazuelos-y-tabanera/
END:VEVENT
END:VCALENDAR