BEGIN:VCALENDAR
VERSION:2.0
PRODID:-//eventon.com NONSGML v1.0//EN
CALSCALE:GREGORIAN
METHOD:PUBLISH
BEGIN:VEVENT
UID:69e887f398129
DTSTAMP:20260422T083355Z
DTSTART:20260207
DTEND:20260208
LOCATION:Turégano Turégano
SUMMARY:¡Viva Santa Águeda! en Turégano
DESCRIPTION:¡Viva Santa Águeda! en Turégano\,  Sábado 7 y domingo 8 de 
 febrero en la villa de Turégano. Los eventos principales tendrán lugar en
  la Iglesia\,  el Bar Castillo y el Centro Cultural. Turégano se viste de 
 gala para celebrar a Santa Águeda con un programa que combina devoción y 
 gastronomía.[..]\nhttps://www.eventosdesegovia.com/events/viva-santa-agued
 a-en-turegano/
URL:https://www.eventosdesegovia.com/events/viva-santa-agueda-en-turegano/
END:VEVENT
END:VCALENDAR