BEGIN:VCALENDAR
VERSION:2.0
PRODID:-//eventon.com NONSGML v1.0//EN
CALSCALE:GREGORIAN
METHOD:PUBLISH
BEGIN:VEVENT
UID:69e5f125dcb44
DTSTAMP:20260420T092557Z
DTSTART:20260208T110000Z
DTEND:20260208T130000Z
LOCATION:Espirdo Espirdo
SUMMARY:Tenis de Mesa - Seghos ETM vs Oroso TM en Espirdo
DESCRIPTION:Tenis de Mesa &#8211; Seghos ETM vs Oroso TM en Espirdo\,  el D
 omingo 8 de febrero a las 12:00 horas en el Centro Cultural de Espirdo\,  S
 egovia. El deporte de alta competición llega a Espirdo con un emocionante 
 encuentro de la División de Honor de Tenis de Mesa. El equipo[..]\nhttps:/
 /www.eventosdesegovia.com/events/tenis-de-mesa-seghos-etm-vs-oroso-tm-en-es
 pirdo/
URL:https://www.eventosdesegovia.com/events/tenis-de-mesa-seghos-etm-vs-oroso-tm-en-espirdo/
END:VEVENT
END:VCALENDAR