BEGIN:VCALENDAR
VERSION:2.0
PRODID:-//eventon.com NONSGML v1.0//EN
CALSCALE:GREGORIAN
METHOD:PUBLISH
BEGIN:VEVENT
UID:69eb2ad482a2d
DTSTAMP:20260424T083324Z
DTSTART:20260206
DTEND:20260207
LOCATION:Cines ArteSiete Calle Dámaso Alonso\,  54\,  40006 Segovia
SUMMARY:Cartelera Cines Artesiete
DESCRIPTION:Cartelera Cines Artesiete en Segovia\,  para la semana del 6 de
  Febrero al 12 de Febrero de 2026 Síguenos en nuestro canal de Whatsapp:\n
 https://www.eventosdesegovia.com/events/cartelera-cines-artesiete-202/
URL:https://www.eventosdesegovia.com/events/cartelera-cines-artesiete-202/
END:VEVENT
END:VCALENDAR