BEGIN:VCALENDAR
VERSION:2.0
PRODID:-//eventon.com NONSGML v1.0//EN
CALSCALE:GREGORIAN
METHOD:PUBLISH
BEGIN:VEVENT
UID:69e8a60fb7312
DTSTAMP:20260422T104223Z
DTSTART:20260214
DTEND:20260215
LOCATION:Cantalejo Cantalejo
SUMMARY:Carnaval 2026 en Cantalejo
DESCRIPTION:Carnaval 2026 en Cantalejo\,  El Pabellón las Adoberas de Cant
 alejo será el centro neurálgico del carnaval este año. El sábado 14 de 
 febrero a las 19:00 horas se dará el pistoletazo de salida con el gran Des
 file de Carnaval. La diversión continuará el lunes 16 de febrero de 17:00
  a[..]\nhttps://www.eventosdesegovia.com/events/carnaval-2026-en-cantalejo/
URL:https://www.eventosdesegovia.com/events/carnaval-2026-en-cantalejo/
END:VEVENT
END:VCALENDAR