BEGIN:VCALENDAR
VERSION:2.0
PRODID:-//eventon.com NONSGML v1.0//EN
CALSCALE:GREGORIAN
METHOD:PUBLISH
BEGIN:VEVENT
UID:69e78a8d8a44e
DTSTAMP:20260421T143245Z
DTSTART:20260214
DTEND:20260215
LOCATION:Palazuelos de Eresma Palazuelos de Eresma
SUMMARY:Carnaval 2026 en Palazuelos de Eresma
DESCRIPTION:Carnaval 2026 en Palazuelos de Eresma\,  La diversión comienza
  este sábado 14 de febrero a las 14:00 h con el «Vermut Carnavalero» en 
 la Plaza del Ayuntamiento de Palazuelos de Eresma. El municipio de Palazuel
 os de Eresma y sus núcleos (Tabanera del Monte\,  Parque Robledo\,  entre 
 otros) presentan un programa[..]\nhttps://www.eventosdesegovia.com/events/c
 arnaval-2026-en-palazuelos-de-eresma/
URL:https://www.eventosdesegovia.com/events/carnaval-2026-en-palazuelos-de-eresma/
END:VEVENT
END:VCALENDAR