BEGIN:VCALENDAR
VERSION:2.0
PRODID:-//eventon.com NONSGML v1.0//EN
CALSCALE:GREGORIAN
METHOD:PUBLISH
BEGIN:VEVENT
UID:69e778070d1aa
DTSTAMP:20260421T131343Z
DTSTART:20260215T170000Z
DTEND:20260215T193000Z
LOCATION:Real Sitio de San Ildefonso Real Sitio de San Ildefonso
SUMMARY:Cine fórum: Tomates verdes fritos en el Real Sitio de San Ildefonso
DESCRIPTION:Cine fórum: Tomates verdes fritos en el Real Sitio de San Ilde
 fonso\,  El domingo 15 de febrero a las 18:00h\,  el Salón Siglo XXI (Plaz
 a de los Dolores) en el Real Sitio de San Ildefonso acogerá una nueva sesi
 ón del Ciclo por la Igualdad de Género. La entrada es libre[..]\nhttps://
 www.eventosdesegovia.com/events/cine-forum-tomates-verdes-fritos-en-el-real
 -sitio-de-san-ildefonso/
URL:https://www.eventosdesegovia.com/events/cine-forum-tomates-verdes-fritos-en-el-real-sitio-de-san-ildefonso/
END:VEVENT
END:VCALENDAR