BEGIN:VCALENDAR
VERSION:2.0
PRODID:-//eventon.com NONSGML v1.0//EN
CALSCALE:GREGORIAN
METHOD:PUBLISH
BEGIN:VEVENT
UID:69e78cd9c1a17
DTSTAMP:20260421T144233Z
DTSTART:20260216
DTEND:20260217
LOCATION:Real Sitio de San Ildefonso Real Sitio de San Ildefonso
SUMMARY:Cine solidario: La elefanta del mago en San Ildefonso
DESCRIPTION:Cine solidario: La elefanta del mago en San Ildefonso\,  El lun
 es 16 de febrero a las 17:30h\,  el Salón de actos del Ayuntamiento de San
  Ildefonso (Segovia) abre sus puertas para una sesión de cine con fines be
 néficos. Por un donativo de solo 2€\,  los asistentes podrán disfrutar 
 de una[..]\nhttps://www.eventosdesegovia.com/events/cine-solidario-la-elefa
 nta-del-mago-en-san-ildefonso/
URL:https://www.eventosdesegovia.com/events/cine-solidario-la-elefanta-del-mago-en-san-ildefonso/
END:VEVENT
END:VCALENDAR