BEGIN:VCALENDAR
VERSION:2.0
PRODID:-//eventon.com NONSGML v1.0//EN
CALSCALE:GREGORIAN
METHOD:PUBLISH
BEGIN:VEVENT
UID:69e7a26d7f967
DTSTAMP:20260421T161437Z
DTSTART:20260215
DTEND:20260216
LOCATION:Navafría Navafría
SUMMARY:Fiesta de la Vaquilla en Navafría
DESCRIPTION:Fiesta de la Vaquilla en Navafría\,  La cita es el domingo 15 
 de febrero en la Plaza del Campillo de Navafría\,  donde el desfile dará 
 comienzo a las 12:30h. Navafría cierra el fin de semana de carnaval con un
  desfile de vaquillas y comparsas apto para todos los públicos. Al[..]\nht
 tps://www.eventosdesegovia.com/events/fiesta-de-la-vaquilla-en-navafria/
URL:https://www.eventosdesegovia.com/events/fiesta-de-la-vaquilla-en-navafria/
END:VEVENT
END:VCALENDAR