BEGIN:VCALENDAR
VERSION:2.0
PRODID:-//eventon.com NONSGML v1.0//EN
CALSCALE:GREGORIAN
METHOD:PUBLISH
BEGIN:VEVENT
UID:69e78c4c30c77
DTSTAMP:20260421T144012Z
DTSTART:20260214
DTEND:20260215
LOCATION:
SUMMARY:Carnavales 2026 en Orejana
DESCRIPTION:Carnavales 2026 en Orejana\,  La celebración se llevará a cab
 o el sábado 14 de febrero en el Bar Punto de Encuentro de Orejana\,  con a
 ctividades que arrancan con el vermuteo y el plato fuerte a las 13:30h. Ore
 jana invita a vecinos y visitantes a una fiesta de disfraces «a la[..]\nht
 tps://www.eventosdesegovia.com/events/carnavales-2026-en-orejana/
URL:https://www.eventosdesegovia.com/events/carnavales-2026-en-orejana/
END:VEVENT
END:VCALENDAR