BEGIN:VCALENDAR
VERSION:2.0
PRODID:-//eventon.com NONSGML v1.0//EN
CALSCALE:GREGORIAN
METHOD:PUBLISH
BEGIN:VEVENT
UID:69e8b24daddb0
DTSTAMP:20260422T113437Z
DTSTART:20260213T193000Z
DTEND:20260213T212000Z
LOCATION:Valverde del Majano Valverde del Majano
SUMMARY:War Baby en el Teatro Juan Bravo
DESCRIPTION:War Baby en el Teatro Juan Bravo\,  Este viernes 13 de febrero 
 a las 20:30 horas\,  el emblemÃ¡tico Teatro Juan Bravo de Segovia acoge el 
 regreso de la locura y la carcajada con el sello inconfundible de la compaÃ
 ±Ã­a Yllana. La obra promete una hora y media de pura comedia[..]\nhttps://
 www.eventosdesegovia.com/events/war-baby-en-el-teatro-juan-bravo/
URL:https://www.eventosdesegovia.com/events/war-baby-en-el-teatro-juan-bravo/
END:VEVENT
END:VCALENDAR