BEGIN:VCALENDAR
VERSION:2.0
PRODID:-//eventon.com NONSGML v1.0//EN
CALSCALE:GREGORIAN
METHOD:PUBLISH
BEGIN:VEVENT
UID:69e8b1f2b9f6f
DTSTAMP:20260422T113306Z
DTSTART:20260219T193000Z
DTEND:20260219T210000Z
LOCATION:Segovia Segovia
SUMMARY:La Piccola Jam: Trad jazz en el Café Central de Segovia
DESCRIPTION:La Piccola Jam: Trad jazz en el Café Central de Segovia\,  La 
 velada musical está programada para el jueves 19 de febrero a las 20:30 ho
 ras\,  en el acogedor ambiente del Café Central\,  en Segovia. Prepárate 
 para disfrutar de la mejor música en directo con «La Piccola Jam»\,  una
  sesión[..]\nhttps://www.eventosdesegovia.com/events/la-piccola-jam-trad-j
 azz-en-el-cafe-central-de-segovia/
URL:https://www.eventosdesegovia.com/events/la-piccola-jam-trad-jazz-en-el-cafe-central-de-segovia/
END:VEVENT
END:VCALENDAR