BEGIN:VCALENDAR
VERSION:2.0
PRODID:-//eventon.com NONSGML v1.0//EN
CALSCALE:GREGORIAN
METHOD:PUBLISH
BEGIN:VEVENT
UID:69e4cb5f375f5
DTSTAMP:20260419T123231Z
DTSTART:20260225T170000Z
DTEND:20260225T183000Z
LOCATION:Casa de la Lectura – Biblioteca Municipal Calle Juan Bravo\,  11
SUMMARY:Animación a la lectura en la Casa de la Lectura de Segovia
DESCRIPTION:Animación a la lectura en la Casa de la Lectura de Segovia\,  
 El miércoles 25 de febrero a las 18:00 h\,  la Casa de la Lectura\,  ubica
 da en la calle Juan Bravo nº 11 de Segovia\,  se convertirá en un espacio
  de creatividad literaria. Este taller de collage está diseñado[..]\nhttp
 s://www.eventosdesegovia.com/events/animacion-a-la-lectura-en-la-casa-de-la
 -lectura-de-segovia/
URL:https://www.eventosdesegovia.com/events/animacion-a-la-lectura-en-la-casa-de-la-lectura-de-segovia/
END:VEVENT
END:VCALENDAR