BEGIN:VCALENDAR
VERSION:2.0
PRODID:-//eventon.com NONSGML v1.0//EN
CALSCALE:GREGORIAN
METHOD:PUBLISH
BEGIN:VEVENT
UID:69e89c127e9cc
DTSTAMP:20260422T095946Z
DTSTART:20260228T170000Z
DTEND:20260228T190000Z
LOCATION:Teatro Paladio Camino la Piedad\,  8
SUMMARY:La mansión encantada de conocerte en la Sala Teatro Paladio
DESCRIPTION:La mansión encantada de conocerte en la Sala Teatro Paladio\, 
  El sábado 28 de febrero de 2026 a las 18:00 h\,  la Sala Teatro Paladio d
 e Segovia abre sus puertas para una experiencia misteriosa. Esta actividad 
 está enmarcada dentro de la programación del XVII Festival Internacional 
 Paladio Arte\,  un referente[..]\nhttps://www.eventosdesegovia.com/events/l
 a-mansion-encantada-de-conocerte-en-la-sala-teatro-paladio/
URL:https://www.eventosdesegovia.com/events/la-mansion-encantada-de-conocerte-en-la-sala-teatro-paladio/
END:VEVENT
END:VCALENDAR