BEGIN:VCALENDAR
VERSION:2.0
PRODID:-//eventon.com NONSGML v1.0//EN
CALSCALE:GREGORIAN
METHOD:PUBLISH
BEGIN:VEVENT
UID:69e8b19c138ac
DTSTAMP:20260422T113140Z
DTSTART:20260307
DTEND:20260308
LOCATION:Segovia Segovia
SUMMARY:Carrera Solidaria de la Policía Nacional en Segovia
DESCRIPTION:Carrera Solidaria de la Policía Nacional en Segovia\,  El sáb
 ado 7 de marzo\,  los alrededores de la Avenida del Acueducto se llenarán 
 de espíritu deportivo con la I Edición de la Carrera Solidaria Ruta 091\,
   organizada por la Policía Nacional. La jornada arrancará a las 16:00 h 
 con una exhibición[..]\nhttps://www.eventosdesegovia.com/events/carrera-so
 lidaria-de-la-policia-nacional-en-segovia/
URL:https://www.eventosdesegovia.com/events/carrera-solidaria-de-la-policia-nacional-en-segovia/
END:VEVENT
END:VCALENDAR