BEGIN:VCALENDAR
VERSION:2.0
PRODID:-//eventon.com NONSGML v1.0//EN
CALSCALE:GREGORIAN
METHOD:PUBLISH
BEGIN:VEVENT
UID:69e4cb5f328df
DTSTAMP:20260419T123231Z
DTSTART:20260307T190000Z
DTEND:20260307T213000Z
LOCATION:Laura Segovia Flamenco. Espectáculos y Formación Calle Alamillo\,  10\,  40001 Segovia
SUMMARY:La de la Zona Oscura en el Tablao Flamenco Segovia
DESCRIPTION:La de la Zona Oscura en el Tablao Flamenco Segovia\,  Disfruta 
 de una noche de teatro y reflexión el sábado 7 de marzo a las 20:00 h en 
 el Tablao Flamenco Segovia (C/ Alamillo\,  10). La actriz Montse Ruano prot
 agoniza el monólogo «La de la zona oscura»\,  una obra escrita[..]\nhttp
 s://www.eventosdesegovia.com/events/la-de-la-zona-oscura-en-el-tablao-flame
 nco-segovia/
URL:https://www.eventosdesegovia.com/events/la-de-la-zona-oscura-en-el-tablao-flamenco-segovia/
END:VEVENT
END:VCALENDAR