BEGIN:VCALENDAR
VERSION:2.0
PRODID:-//eventon.com NONSGML v1.0//EN
CALSCALE:GREGORIAN
METHOD:PUBLISH
BEGIN:VEVENT
UID:69e75d40e6509
DTSTAMP:20260421T111928Z
DTSTART:20260303T180000Z
DTEND:20260303T190000Z
LOCATION:Liberia Diagonal C/ Conde Sepulveda\, 1
SUMMARY:Presentación y firma de La edad infinita en Librería Diagonal
DESCRIPTION:Presentación y firma de La edad infinita en Librería Diagonal
 \,  Este martes 3 de marzo a las 19:00 horas\,  la Librería Diagonal (Cond
 e Sepúlveda nº1\,  Segovia) acogerá un encuentro literario de primer niv
 el. Se trata de la presentación y firma de la obra «La edad infinita»\, 
  que contará con la[..]\nhttps://www.eventosdesegovia.com/events/presentac
 ion-y-firma-de-la-edad-infinita-en-libreria-diagonal/
URL:https://www.eventosdesegovia.com/events/presentacion-y-firma-de-la-edad-infinita-en-libreria-diagonal/
END:VEVENT
END:VCALENDAR