BEGIN:VCALENDAR
VERSION:2.0
PRODID:-//eventon.com NONSGML v1.0//EN
CALSCALE:GREGORIAN
METHOD:PUBLISH
BEGIN:VEVENT
UID:69e89c13b70c5
DTSTAMP:20260422T095947Z
DTSTART:20200206T080000Z
DTEND:20200206T163000Z
LOCATION:La CÃ¡rcel_Centro de CreaciÃ³n Av. Juan Carlos I
SUMMARY:Segovia Business Market
DESCRIPTION:Segovia Business Market El dÃ­a 6 de febrero de 2020 tendrÃ¡ lu
 gar en la CÃ¡rcel_Segovia\,  Centro de CreaciÃ³n el primer Foro de inversiÃ
 ³n y empresa\,  Segovia Business Market. Un espacio Ãºnico de conexiÃ³n ent
 re el ecosistema empresarial de Segovia y la red de inversores\,  business 
 angels y venture capital de[..]\nhttps://www.eventosdesegovia.com/events/se
 govia-business-market/
URL:https://www.eventosdesegovia.com/events/segovia-business-market/
END:VEVENT
END:VCALENDAR