BEGIN:VCALENDAR
VERSION:2.0
PRODID:-//eventon.com NONSGML v1.0//EN
CALSCALE:GREGORIAN
METHOD:PUBLISH
BEGIN:VEVENT
UID:69e774fc7765a
DTSTAMP:20260421T130044Z
DTSTART:20201024T160000Z
DTEND:20201024T170000Z
LOCATION:Casa de la Lectura – Biblioteca Municipal Calle Juan Bravo\,  11
SUMMARY:Presentación de La Princesa de la Gran Torre
DESCRIPTION:Presentación de La Princesa de la Gran Torre\,  el día 24 de 
 Octubre a las 18:00\,  Raquel Rubio\,  nos presenta su libro\,  en la Casa 
 de la Lectura de la Biblioteca Municipal.\nhttps://www.eventosdesegovia.com
 /events/presentacion-de-la-princesa-de-la-gran-torre/
URL:https://www.eventosdesegovia.com/events/presentacion-de-la-princesa-de-la-gran-torre/
END:VEVENT
END:VCALENDAR